BEGIN:VCALENDAR
VERSION:2.0
PRODID:-//ChamberMaster//Event Calendar 2.0//EN
METHOD:PUBLISH
X-PUBLISHED-TTL:P3D
REFRESH-INTERVAL:P3D
CALSCALE:GREGORIAN
BEGIN:VEVENT
DTSTART:20141107T230000Z
DTEND:20141108T030000Z
X-MICROSOFT-CDO-ALLDAYEVENT:FALSE
SUMMARY:Date Night at Target Sports MN
DESCRIPTION:On one Friday of each month\, Target Sports MN will be hosting a date night!   $20 for the first shooter and the second shooter sharing the lane gets to shoot for free!   Bring a receipt from a local restaurant\, dated the day of Date Night\, and receive a free firearm rental.   Coffee and dessert will be provided.
X-ALT-DESC;FMTTYPE=text/html:<div class="detail-item"><span class="event-description">On</span><span class="event-description"> one Friday of each month\, Target Sports MN will be hosting a date night! &bull\; $20 for the first shooter and the second shooter sharing the lane gets to shoot for free! &bull\; Bring a receipt from a local restaurant\, dated the day of Date Night\, and receive a free firearm rental. &bull\; Coffee and dessert will be provided. &bull\; </span></div>\n
LOCATION:
UID:e.1321.1278
SEQUENCE:3
DTSTAMP:20260424T141719Z
URL:https://business.i94westchamber.org/events/details/date-night-at-target-sports-mn-11-07-2014-1278
END:VEVENT

END:VCALENDAR
