BEGIN:VCALENDAR
VERSION:2.0
PRODID:-//ChamberMaster//Event Calendar 2.0//EN
METHOD:PUBLISH
X-PUBLISHED-TTL:P3D
REFRESH-INTERVAL:P3D
CALSCALE:GREGORIAN
BEGIN:VEVENT
DTSTART:20161116T001500Z
DTEND:20161116T013000Z
X-MICROSOFT-CDO-ALLDAYEVENT:FALSE
SUMMARY:Dinner with Dr. Brittany
DESCRIPTION:
X-ALT-DESC;FMTTYPE=text/html:
LOCATION:
UID:e.1321.2519
SEQUENCE:3
DTSTAMP:20260421T183903Z
URL:https://business.i94westchamber.org/events/details/dinner-with-dr-brittany-2519
END:VEVENT

END:VCALENDAR
