BEGIN:VCALENDAR
VERSION:2.0
PRODID:-//ChamberMaster//Event Calendar 2.0//EN
METHOD:PUBLISH
X-PUBLISHED-TTL:P3D
REFRESH-INTERVAL:P3D
CALSCALE:GREGORIAN
BEGIN:VEVENT
DTSTART:20120726T233000Z
DTEND:20120727T013000Z
X-MICROSOFT-CDO-ALLDAYEVENT:FALSE
SUMMARY:DQ Miracle Treat Night
DESCRIPTION:Meet the STMA Women of Today members and their families at the St Michael DQ Thursday July 26th at 6:30pm. Buy a Blizzard and $1.00 is donated to the Children's Miracle Network! See you there!
X-ALT-DESC;FMTTYPE=text/html:Meet the STMA Women of Today members and their families at the St Michael DQ Thursday July 26th at 6:30pm. Buy a Blizzard and $1.00 is donated to the Children&#39\;s Miracle Network! See you there!
LOCATION:
UID:e.1321.668
SEQUENCE:3
DTSTAMP:20260426T041934Z
URL:https://business.i94westchamber.org/events/details/dq-miracle-treat-night-07-26-2012-668
END:VEVENT

END:VCALENDAR
