BEGIN:VCALENDAR
VERSION:2.0
PRODID:-//ChamberMaster//Event Calendar 2.0//EN
METHOD:PUBLISH
X-PUBLISHED-TTL:P3D
REFRESH-INTERVAL:P3D
CALSCALE:GREGORIAN
BEGIN:VEVENT
DTSTART:20160402T010000Z
DTEND:20160402T040000Z
X-MICROSOFT-CDO-ALLDAYEVENT:FALSE
SUMMARY:Dueling Duo - Dueling Pianos Request Show
DESCRIPTION:Snacks Provided   Cash Bar Available
X-ALT-DESC;FMTTYPE=text/html:Snacks Provided &bull\; Cash Bar Available
LOCATION:St. Michael City Center 11800 Town Center Drive NE St. Michael\, MN
UID:e.1321.1830
SEQUENCE:3
DTSTAMP:20260422T025947Z
URL:https://business.i94westchamber.org/events/details/dueling-duo-dueling-pianos-request-show-04-01-2016-1830
END:VEVENT

END:VCALENDAR
