BEGIN:VCALENDAR
VERSION:2.0
PRODID:-//ChamberMaster//Event Calendar 2.0//EN
METHOD:PUBLISH
X-PUBLISHED-TTL:P3D
REFRESH-INTERVAL:P3D
CALSCALE:GREGORIAN
BEGIN:VEVENT
DTSTART;VALUE=DATE:20170416
DTEND;VALUE=DATE:20170417
TRANSP:TRANSPARENT
X-MICROSOFT-CDO-ALLDAYEVENT:TRUE
SUMMARY:Easter Service
DESCRIPTION:Easter:\n\nPlease join us for worship this Easter.\n\nWe will have an informal Sunrise Service at 7 AM\, followed by a scrumptious breakfast prepared and served by our Men's Group.\n\nAt 10:00 AM\, we have a worship service\, including beautiful music by our Adult and Children's choirs\n\nEveryone is welcome at Immanuel.  Bring your friends and family.
X-ALT-DESC;FMTTYPE=text/html:&nbsp\;<br />\n<u>Easter:</u><br />\nPlease join us for worship this Easter.<br />\nWe will have an informal Sunrise Service at 7 AM\, followed by a scrumptious breakfast prepared and served by our Men&#39\;s Group.<br />\nAt 10:00 AM\, we have a worship service\, including beautiful music by our Adult and Children&#39\;s choirs<br />\nEveryone is welcome at Immanuel.&nbsp\; Bring your friends and family.<br />\n&nbsp\;
LOCATION:Immanuel United Methodist Church 10025 Cty Rd 101 (Brockton Ln N) www.immanuelumc.church 763-420-2585
UID:e.1321.2966
SEQUENCE:3
DTSTAMP:20260421T095750Z
URL:https://business.i94westchamber.org/events/details/easter-service-2966
END:VEVENT

END:VCALENDAR
