BEGIN:VCALENDAR
VERSION:2.0
PRODID:-//ChamberMaster//Event Calendar 2.0//EN
METHOD:PUBLISH
X-PUBLISHED-TTL:P3D
REFRESH-INTERVAL:P3D
CALSCALE:GREGORIAN
BEGIN:VEVENT
DTSTART:20150202T170000Z
DTEND:20150202T180000Z
X-MICROSOFT-CDO-ALLDAYEVENT:FALSE
SUMMARY:Eat\, Drink\, Give for CROSS Services at Malone's Bar & Grill
DESCRIPTION:Eat\, Drink\, and Give for CROSS Services during an event at Malone's Bar & Grill all day Monday\, Feb. 2\, 2015. 50% of food and beverage sales Feb. 2 will be donated to CROSS Services. Reservations are accepted by calling 763-447-6500. Malone's Bar & Grill is located at 12635 Elm Creek Blvd\, Maple Grove.\n\n\n\nCROSS is a non-profit organization helping families and individuals living in Maple Grove\, Rogers\, Osseo\, Champlin (west)\, Corcoran\, and Dayton.
X-ALT-DESC;FMTTYPE=text/html:Eat\, Drink\, and Give for CROSS Services during an event at Malone&#39\;s Bar &amp\; Grill all day Monday\, Feb. 2\, 2015.&nbsp\;50% of food and beverage sales Feb. 2 will be donated to CROSS Services. Reservations are accepted by calling 763-447-6500. Malone&#39\;s Bar &amp\; Grill is located at 12635 Elm Creek Blvd\, Maple Grove.<br />\n<br />\nCROSS is a non-profit organization helping families and individuals living in Maple Grove\, Rogers\, Osseo\, Champlin (west)\, Corcoran\, and Dayton.&nbsp\;
LOCATION:12635 Elm Creek Blvd\, Maple Grove\, MN 55369
UID:e.1321.1373
SEQUENCE:3
DTSTAMP:20260424T113756Z
URL:https://business.i94westchamber.org/events/details/eat-drink-give-for-cross-services-at-malone-s-bar-grill-02-02-2015-1373
END:VEVENT

END:VCALENDAR
