BEGIN:VCALENDAR
VERSION:2.0
PRODID:-//ChamberMaster//Event Calendar 2.0//EN
METHOD:PUBLISH
X-PUBLISHED-TTL:P3D
REFRESH-INTERVAL:P3D
CALSCALE:GREGORIAN
BEGIN:VEVENT
DTSTART:20170118T143000Z
DTEND:20170118T154500Z
X-MICROSOFT-CDO-ALLDAYEVENT:FALSE
SUMMARY:Elevate for Success
DESCRIPTION:Don't miss tthis Elevate For Success event on  Chris Winter joins us to share his professional business leadership expertise in strategic goal setting and success measurement.\n\n Chris is an inspired and passionate leader who helps individuals and business principals attain higher levels of awareness and performance\, and to Achieve Purpose.\n\n For over 20 years\, in addition to launching a number of his own successful businesses and companies\, Chris has been providing consultative services in leadership development and project management in B2B and B2C sales in a variety of industries including real estate and finance. . \n\nChris's management analyses are balanced with a perspective based on entrepreneurial potential. He uses proven coaching methodologies and sound project management practices to help organizations and individuals in the areas of strategic planning\, professional growth and developing measurable performance strategies.  \n\n With a proven track record as a strategic guide and program facilitator\, Chris' students at Kaplan University will testify to his professional training techniques that are not only captivating but that yield immediately-applicable results. \n\n \n\nChris comes to Elevate for Success with a Bachelor's Degree in Sociology\, Occupations and Organizations from Illinois State University and a Financial Management Certification from the University of St. Thomas.  Chris has additional certifications as a Professional Coach and Trainer\, and a Minnesota Real Estate Brokers License. In addition to being a business leader\, Chris is a perpetual learner\, applying the newest growth techniques in his consulting practice
X-ALT-DESC;FMTTYPE=text/html:&nbsp\;<span style="font-family:times new roman\,serif\;"><span style="font-size:12.0pt\;">Don&rsquo\;t miss tthis Elevate For Success event on&nbsp\; Chris Winter joins us to share his professional business leadership expertise in strategic goal setting and success measurement.</span></span><br />\n&nbsp\;<span style="font-family:times new roman\,serif\;"><span style="font-size:12.0pt\;">Chris is an inspired and passionate leader who helps individuals and business principals attain higher levels of awareness and performance\, and to Achieve Purpose.</span></span><br />\n&nbsp\;<span style="font-family:times new roman\,serif\;"><span style="font-size:12.0pt\;">For over 20 years\, in addition to launching a number of his own successful businesses and companies\, Chris has been providing consultative services in leadership development and project management in B2B and B2C sales in a variety of industries including real estate and finance. . </span></span><br />\n<span style="font-family:times new roman\,serif\;"><span style="font-size:12.0pt\;">Chris&rsquo\;s management analyses are balanced with a perspective based on entrepreneurial potential. He uses proven coaching methodologies and sound project management practices to help organizations and individuals in the areas of strategic planning\, professional growth and developing measurable performance strategies.&nbsp\; </span></span><br />\n&nbsp\;<span style="font-family:times new roman\,serif\;"><span style="font-size:12.0pt\;">With a proven track record as a strategic guide and program facilitator\, Chris&rsquo\; students at Kaplan University will testify to his professional training techniques that are not only captivating but that yield immediately-applicable results. </span></span><br />\n&nbsp\;<br />\n<span style="font-family:times new roman\,serif\;"><span style="font-size:12.0pt\;">Chris comes to Elevate for Success with a Bachelor&rsquo\;s Degree in Sociology\, Occupations and Organizations from Illinois State University and a Financial Management Certification from the University of St. Thomas. &nbsp\;Chris has additional certifications as a Professional Coach and Trainer\, and a Minnesota Real Estate Brokers License. In addition to being a business leader\, Chris is a perpetual learner\, applying the newest growth techniques in his consulting practice</span></span>
LOCATION:Rush Creek Golf Club 7801 County Road 101 Maple Grove\, Minnesota 55311
UID:e.1321.2485
SEQUENCE:3
DTSTAMP:20260421T143618Z
URL:https://business.i94westchamber.org/events/details/elevate-for-success-2485
END:VEVENT

END:VCALENDAR
