BEGIN:VCALENDAR
VERSION:2.0
PRODID:-//ChamberMaster//Event Calendar 2.0//EN
METHOD:PUBLISH
X-PUBLISHED-TTL:P3D
REFRESH-INTERVAL:P3D
CALSCALE:GREGORIAN
BEGIN:VEVENT
DTSTART:20170315T131500Z
DTEND:20170315T144500Z
X-MICROSOFT-CDO-ALLDAYEVENT:FALSE
SUMMARY:Elevate for Success
DESCRIPTION:Elevate for Success\, a group of the I-94 West Chamber of Commerce\, meets on the third Wednesday of each month\, providing opportunities to create and strengthen connections\, with speakers and topics geared toward personal and professional leadership development that will add value to your day-to-day interactions and your overall business.\n\n\n\nAll are welcome to attend. Non-Members can attend 2x.\n\n\n\nSpotlight Speakers: Grand Casino Mille Lacs / Hinckley
X-ALT-DESC;FMTTYPE=text/html:Elevate for Success\, a group of the I-94 West Chamber of Commerc<span class="text_exposed_show">e\, meets on the third Wednesday of each month\, providing opportunities to create and strengthen connections\, with speakers and topics geared toward personal and professional leadership development that will add value to your day-to-day interactions and your overall business.<br />\n<br />\nAll are welcome to attend. Non-Members can attend 2x.</span><br />\n<br />\nSpotlight Speakers: Grand Casino Mille Lacs / Hinckley
LOCATION:Rush Creek Golf Club 7801 County Road 101 Maple Grove\, Minnesota 55311
UID:e.1321.2536
SEQUENCE:3
DTSTAMP:20260421T112730Z
URL:https://business.i94westchamber.org/events/details/elevate-for-success-2536
END:VEVENT

END:VCALENDAR
