BEGIN:VCALENDAR
VERSION:2.0
PRODID:-//ChamberMaster//Event Calendar 2.0//EN
METHOD:PUBLISH
X-PUBLISHED-TTL:P3D
REFRESH-INTERVAL:P3D
CALSCALE:GREGORIAN
BEGIN:VEVENT
DTSTART:20150428T183000Z
DTEND:20150428T203000Z
X-MICROSOFT-CDO-ALLDAYEVENT:FALSE
SUMMARY:Email Essentials Using Gmail
DESCRIPTION:Create a new Gmail account and learn to send\, receive\, store and manage your emails. Discuss cc\, bcc and how/when to use them. Discuss reply\, reply to all and forward. create folders for storing important messages\, deleting messages you don't need and learn to send\, receive and download attachments. You'll also create an email signature and explore other email settings.
X-ALT-DESC;FMTTYPE=text/html:Create a new Gmail account and learn to send\, receive\, store and manage your emails. Discuss cc\, bcc and how/when to use them. Discuss reply\, reply to all and forward. create folders for storing important messages\, deleting messages you don&#39\;t need and learn to send\, receive and download attachments. You&#39\;ll also create an email signature and explore other email settings.
LOCATION:Rogers Fire Hall Community Room
UID:e.1321.1535
SEQUENCE:3
DTSTAMP:20260422T194914Z
URL:https://business.i94westchamber.org/events/details/email-essentials-using-gmail-04-28-2015-1535
END:VEVENT

END:VCALENDAR
