BEGIN:VCALENDAR
VERSION:2.0
PRODID:-//ChamberMaster//Event Calendar 2.0//EN
METHOD:PUBLISH
X-PUBLISHED-TTL:P3D
REFRESH-INTERVAL:P3D
CALSCALE:GREGORIAN
BEGIN:VEVENT
DTSTART:20150729T210000Z
DTEND:20150730T000000Z
X-MICROSOFT-CDO-ALLDAYEVENT:FALSE
SUMMARY:Engel Haus-OPEN HOUSE
DESCRIPTION:Join us for some summertime fun! Western BBQ\, Music & Horses Engel Haus-Open House Wednesday\, July 29th (4-7pm) Come visit the newest Senior Living Community in Albertville & take a tour! Catered Living-Assisted Living-Memory Care RSVP's Appreciated 763-498-4594
X-ALT-DESC;FMTTYPE=text/html:Join us for some summertime fun! Western BBQ\, Music &amp\; Horses Engel Haus-Open House Wednesday\, July 29th (4-7pm) Come visit the newest Senior Living Community in Albertville &amp\; take a tour! Catered Living-Assisted Living-Memory Care RSVP&#39\;s Appreciated 763-498-4594
LOCATION:5101 Kassel Ave. NE Albertville\, MN 55301
UID:e.1321.1668
SEQUENCE:3
DTSTAMP:20260422T153539Z
URL:https://business.i94westchamber.org/events/details/engel-haus-open-house-07-29-2015-1668
END:VEVENT

END:VCALENDAR
