BEGIN:VCALENDAR
VERSION:2.0
PRODID:-//ChamberMaster//Event Calendar 2.0//EN
METHOD:PUBLISH
X-PUBLISHED-TTL:P3D
REFRESH-INTERVAL:P3D
CALSCALE:GREGORIAN
BEGIN:VEVENT
DTSTART:20150804T230000Z
DTEND:20150805T010000Z
X-MICROSOFT-CDO-ALLDAYEVENT:FALSE
SUMMARY:Engel Haus-Open House
DESCRIPTION:Join us for some summertime fun! National Night Out--Ice Cream Social & Music Engel Haus-Open House Tuesday\, August 4th Come visit the newest Senior Living Community in Albertville & take a tour! Catered Living-Assisted Living-Memory Care RSVP's Appreciated 763-498-4594
X-ALT-DESC;FMTTYPE=text/html:Join us for some summertime fun! National Night Out--Ice Cream Social &amp\; Music Engel Haus-Open House Tuesday\, August 4th Come visit the newest Senior Living Community in Albertville &amp\; take a tour! Catered Living-Assisted Living-Memory Care RSVP&#39\;s Appreciated 763-498-4594
LOCATION:5101 Kassel ave NE Albertville\, MN 55301
UID:e.1321.1669
SEQUENCE:3
DTSTAMP:20260422T141750Z
URL:https://business.i94westchamber.org/events/details/engel-haus-open-house-08-04-2015-1669
END:VEVENT

END:VCALENDAR
