BEGIN:VCALENDAR
VERSION:2.0
PRODID:-//ChamberMaster//Event Calendar 2.0//EN
METHOD:PUBLISH
X-PUBLISHED-TTL:P3D
REFRESH-INTERVAL:P3D
CALSCALE:GREGORIAN
BEGIN:VEVENT
DTSTART:20150930T200000Z
DTEND:20150930T220000Z
X-MICROSOFT-CDO-ALLDAYEVENT:FALSE
SUMMARY:Engel Haus Senior Living Community-Open House
DESCRIPTION:Join us for an open house at Engel Haus Senior Living Community in Albertville! Come for a tour-we will be serving Kaffe and Kuchen. Wednesday\, September 30th (3pm-5pm) Reservations appreciated! Call today 763-498-4594
X-ALT-DESC;FMTTYPE=text/html:Join us for an open house at Engel Haus Senior Living Community in Albertville! Come for a tour-we will be serving Kaffe and Kuchen. Wednesday\, September 30th (3pm-5pm) Reservations appreciated! Call today 763-498-4594
LOCATION:5101 Kassel Ave NE Albertville\, Mn
UID:e.1321.1727
SEQUENCE:3
DTSTAMP:20260422T125216Z
URL:https://business.i94westchamber.org/events/details/engel-haus-senior-living-community-open-house-09-30-2015-1727
END:VEVENT

END:VCALENDAR
