BEGIN:VCALENDAR
VERSION:2.0
PRODID:-//ChamberMaster//Event Calendar 2.0//EN
METHOD:PUBLISH
X-PUBLISHED-TTL:P3D
REFRESH-INTERVAL:P3D
CALSCALE:GREGORIAN
BEGIN:VEVENT
DTSTART:20170224T000000Z
DTEND:20170224T020000Z
X-MICROSOFT-CDO-ALLDAYEVENT:FALSE
SUMMARY:eReader Drop-In Clinic
DESCRIPTION:Curious about accessing Library resources and ebooks on your electronic devices? Here's your chance for some one-on-one help! Bring your iPad\, smartphone\, Kindle\, Nook or Android and we'll help you get it "library-ready." Participants will need: login information for email\, Amazon account and/or Apple ID (if applicable)\, and OverDrive and/or 3M accounts (if already set up)\, and library card number and PIN.
X-ALT-DESC;FMTTYPE=text/html:Curious about accessing Library resources and ebooks on your electronic devices? Here&#39\;s your chance for some one-on-one help! Bring your iPad\, smartphone\, Kindle\, Nook or Android and we&#39\;ll help you get it &quot\;library-ready.&quot\; Participants will need: login information for email\, Amazon account and/or Apple ID (if applicable)\, and OverDrive and/or 3M accounts (if already set up)\, and library card number and PIN.
LOCATION:Rogers Library
UID:e.1321.2631
SEQUENCE:3
DTSTAMP:20260421T130422Z
URL:https://business.i94westchamber.org/events/details/ereader-drop-in-clinic-2631
END:VEVENT

END:VCALENDAR
