BEGIN:VCALENDAR
VERSION:2.0
PRODID:-//ChamberMaster//Event Calendar 2.0//EN
METHOD:PUBLISH
X-PUBLISHED-TTL:P3D
REFRESH-INTERVAL:P3D
CALSCALE:GREGORIAN
BEGIN:VEVENT
DTSTART:20150105T173000Z
DTEND:20150105T190000Z
X-MICROSOFT-CDO-ALLDAYEVENT:FALSE
SUMMARY:Especially for Women in Business
DESCRIPTION:Kick off the new year and join us for a networking luncheon at Rockwoods Bar & Grill. Connect with other women who are making a difference\, who are growing and thriving\, and who are taking their business and their leadership to the next level. Bring a friend and be ready to share what it means to you to be a woman in business!
X-ALT-DESC;FMTTYPE=text/html:<strong><span style="font-size: 10pt\;"><span style="font-family: helvetica\,sans-serif\;"><span style="color: rgb(177\, 185\, 202)\;">Kick off the new year and join us for a networking luncheon at Rockwoods Bar &amp\; Grill. Connect with other women who are making a difference\, who are growing and thriving\, and who are taking their business and their leadership to the next level. Bring a friend and be ready to share what it means to you to be a woman in business! &nbsp\;</span></span></span></strong><br />\n<br />\n&nbsp\;
LOCATION:Monday\, January 5\, 2015 from 11:30 AM to 1:00 PM (CST) Rockwoods Bar & Grill 9100 Quaday Ave NE 55330-6641 Otsego\, MN 55330-6641
UID:e.1321.1369
SEQUENCE:3
DTSTAMP:20260424T125439Z
URL:https://business.i94westchamber.org/events/details/especially-for-women-in-business-01-05-2015-1369
END:VEVENT

END:VCALENDAR
