BEGIN:VCALENDAR
VERSION:2.0
PRODID:-//ChamberMaster//Event Calendar 2.0//EN
METHOD:PUBLISH
X-PUBLISHED-TTL:P3D
REFRESH-INTERVAL:P3D
CALSCALE:GREGORIAN
BEGIN:VEVENT
DTSTART:20150608T163000Z
DTEND:20150608T180000Z
X-MICROSOFT-CDO-ALLDAYEVENT:FALSE
SUMMARY:Especially for Women in Business
DESCRIPTION:I invite you to join us and enjoy the opportunity to connect with women who are making a difference\, who are growing and thriving\, and who are taking their business and leadership to the next level.\n\nPlease pay $15.00 at the door via check or credit card ( I can swipe cards). RSVP is very helpful.\n\nLooking forward to seeing all of you again!
X-ALT-DESC;FMTTYPE=text/html:I invite you to join us and enjoy the opportunity to connect with women who are making a difference\, who are growing and thriving\, and who are taking their business and leadership to the next level.<br />\nPlease pay $15.00 at the door via check or credit card ( I can swipe cards). RSVP is very helpful.<br />\nLooking forward to seeing all of you again!<br />\n<br />\n&nbsp\;
LOCATION:
UID:e.1321.1551
SEQUENCE:3
DTSTAMP:20260422T183853Z
URL:https://business.i94westchamber.org/events/details/especially-for-women-in-business-06-08-2015-1551
END:VEVENT

END:VCALENDAR
