BEGIN:VCALENDAR
VERSION:2.0
PRODID:-//ChamberMaster//Event Calendar 2.0//EN
METHOD:PUBLISH
X-PUBLISHED-TTL:P3D
REFRESH-INTERVAL:P3D
CALSCALE:GREGORIAN
BEGIN:VEVENT
DTSTART:20151019T163000Z
DTEND:20151019T180000Z
X-MICROSOFT-CDO-ALLDAYEVENT:FALSE
SUMMARY:Especially for Women in Business
DESCRIPTION:I invite you to join us and enjoy the opportunity to connect with women who are making a difference\, who are growing and thriving\, and who are taking their business and leadership to the next level.
X-ALT-DESC;FMTTYPE=text/html:I invite you to join us and enjoy the opportunity to connect with women who are making a difference\, who are growing and thriving\, and who are taking their business and leadership to the next level.<br />\n<br />\n<br />\n&nbsp\;
LOCATION:Pour Wine Bar Bistro 15704 - 90th Street Otsego\, MN 55330
UID:e.1321.1780
SEQUENCE:3
DTSTAMP:20260422T113343Z
URL:https://business.i94westchamber.org/events/details/especially-for-women-in-business-10-19-2015-1780
END:VEVENT

END:VCALENDAR
