BEGIN:VCALENDAR
VERSION:2.0
PRODID:-//ChamberMaster//Event Calendar 2.0//EN
METHOD:PUBLISH
X-PUBLISHED-TTL:P3D
REFRESH-INTERVAL:P3D
CALSCALE:GREGORIAN
BEGIN:VEVENT
DTSTART:20141206T010000Z
DTEND:20141206T030000Z
X-MICROSOFT-CDO-ALLDAYEVENT:FALSE
SUMMARY:Family Christmas Open House
DESCRIPTION:Chamber Members\, Neighbors and Friends\,\n\n\n\nNorthRidge Fellowship invites you to our Family Christmas Open House to celebrate the Grand Opening of the new addition to our church home! We'll have Christmas cookies and punch\, a special dedication service and Christmas party activities throughout the updated building. We can't wait to share our new space and kick off the Christmas season with you! Visit www.northridgefellowship.org or contact Tammy in the church office at 763-428-5115 for more information.
X-ALT-DESC;FMTTYPE=text/html:Chamber Members\, Neighbors and Friends\,<br />\n<br />\nNorthRidge Fellowship invites you to our Family Christmas Open House to celebrate the Grand Opening of the new addition to our church home! We&#39\;ll have Christmas cookies and punch\, a special dedication service and Christmas party activities throughout the updated building. We can&#39\;t wait to share our new space and kick off the Christmas season with you! Visit www.northridgefellowship.org or contact Tammy in the church office at 763-428-5115 for more information.
LOCATION:NorthRidge Fellowship\, 12522 Main Street\, Rogers 55374
UID:e.1321.1321
SEQUENCE:3
DTSTAMP:20260424T130217Z
URL:https://business.i94westchamber.org/events/details/family-christmas-open-house-12-05-2014-1321
END:VEVENT

END:VCALENDAR
