BEGIN:VCALENDAR
VERSION:2.0
PRODID:-//ChamberMaster//Event Calendar 2.0//EN
METHOD:PUBLISH
X-PUBLISHED-TTL:P3D
REFRESH-INTERVAL:P3D
CALSCALE:GREGORIAN
BEGIN:VEVENT
DTSTART:20160910T200000Z
DTEND:20160911T000000Z
X-MICROSOFT-CDO-ALLDAYEVENT:FALSE
SUMMARY:Family Fun Open House
DESCRIPTION:OPEN HOUSE\n		\n		\n			Hot Dogs and Ice Cream\n		\n		\n			Face Painting\n		\n		\n			Inflatables\n		\n		\n			Balloon Animals\n		\n		\n			Tour our Worship Center\n		\n		\n			Learn about upcoming happenings\n		\n		\n			Visit our Prayer Garden
X-ALT-DESC;FMTTYPE=text/html:<table border="0" cellpadding="0" cellspacing="0" style="margin-left:19.0pt\;border-collapse:collapse\;">\n	<tbody>\n		<tr style="height:55px\;">\n			<td style="width:403px\;padding:0in 0in 0in 0in\;height:55px\;vertical-align:bottom\;"><span style="font-family:arial\,sans-serif\;"><span style="font-size:36.0pt\;">OPEN HOUSE</span></span></td>\n		</tr>\n		<tr style="height:49px\;">\n			<td style="width:403px\;padding:0in 0in 0in 0in\;height:49px\;vertical-align:bottom\;"><em><span style="font-family:arial\,sans-serif\;"><span style="font-size:16.0pt\;">Hot Dogs and Ice Cream</span></span></em></td>\n		</tr>\n		<tr style="height:26px\;">\n			<td style="width:403px\;padding:0in 0in 0in 0in\;height:26px\;vertical-align:bottom\;"><em><span style="font-family:arial\,sans-serif\;"><span style="font-size:16.0pt\;">Face Painting</span></span></em></td>\n		</tr>\n		<tr style="height:26px\;">\n			<td style="width:403px\;padding:0in 0in 0in 0in\;height:26px\;vertical-align:bottom\;"><em><span style="font-family:arial\,sans-serif\;"><span style="font-size:16.0pt\;">Inflatables</span></span></em></td>\n		</tr>\n		<tr style="height:26px\;">\n			<td style="width:403px\;padding:0in 0in 0in 0in\;height:26px\;vertical-align:bottom\;"><em><span style="font-family:arial\,sans-serif\;"><span style="font-size:16.0pt\;">Balloon Animals</span></span></em></td>\n		</tr>\n		<tr style="height:49px\;">\n			<td style="width:403px\;padding:0in 0in 0in 0in\;height:49px\;vertical-align:bottom\;"><span style="font-family:arial\,sans-serif\;"><span style="font-size:14.0pt\;">Tour our Worship Center</span></span></td>\n		</tr>\n		<tr style="height:23px\;">\n			<td style="width:403px\;padding:0in 0in 0in 0in\;height:23px\;vertical-align:bottom\;"><span style="font-family:arial\,sans-serif\;"><span style="font-size:14.0pt\;">Learn about upcoming happenings</span></span></td>\n		</tr>\n		<tr style="height:37px\;">\n			<td style="width:403px\;padding:0in 0in 0in 0in\;height:37px\;vertical-align:bottom\;"><span style="font-family:arial\,sans-serif\;"><span style="font-size:14.0pt\;">Visit our Prayer Garden</span></span></td>\n		</tr>\n	</tbody>\n</table>\n
LOCATION:Immanuel United Methodist Church 10025 County Road 101\, Corcoran
UID:e.1321.2404
SEQUENCE:3
DTSTAMP:20260421T200950Z
URL:https://business.i94westchamber.org/events/details/family-fun-open-house-2404
END:VEVENT

END:VCALENDAR
