BEGIN:VCALENDAR
VERSION:2.0
PRODID:-//ChamberMaster//Event Calendar 2.0//EN
METHOD:PUBLISH
X-PUBLISHED-TTL:P3D
REFRESH-INTERVAL:P3D
CALSCALE:GREGORIAN
BEGIN:VEVENT
DTSTART:20150506T153000Z
DTEND:20150506T163000Z
X-MICROSOFT-CDO-ALLDAYEVENT:FALSE
SUMMARY:Family Story Time
DESCRIPTION:For children of all ages and their parent or caregiver. Talk\, sing\, read\, write and play together in a format appropriate for young children. Share books\, stories\, rhymes\, music and movement.
X-ALT-DESC;FMTTYPE=text/html:<span style="font-family:calibri\,sans-serif\;"><span style="font-size:11.0pt\;">For children of all ages and their parent or caregiver. Talk\, sing\, read\, write and play together in a format appropriate for young children. Share books\, stories\, rhymes\, music and movement.</span></span>
LOCATION:Rogers Library 21300 John Milless Dr. Rogers\, MN 55374
UID:e.1321.1475
SEQUENCE:3
DTSTAMP:20260422T195831Z
URL:https://business.i94westchamber.org/events/details/family-story-time-05-06-2015-1475
END:VEVENT

END:VCALENDAR
