BEGIN:VCALENDAR
VERSION:2.0
PRODID:-//ChamberMaster//Event Calendar 2.0//EN
METHOD:PUBLISH
X-PUBLISHED-TTL:P3D
REFRESH-INTERVAL:P3D
CALSCALE:GREGORIAN
BEGIN:VEVENT
DTSTART:20170412T143000Z
DTEND:20170412T150000Z
X-MICROSOFT-CDO-ALLDAYEVENT:FALSE
SUMMARY:Family Storytime
DESCRIPTION:For children of all ages and their parent or caregiver. Talk\, sing\, read\, write and play together in a format appropriate for young children. Share books\, stories\, rhymes\, music and movement.For children of all ages and their parent or caregiver. Talk\, sing\, read\, write and play together in a format appropriate for young children. Share books\, stories\, rhymes\, music and movement.r
X-ALT-DESC;FMTTYPE=text/html:For children of all ages and their parent or caregiver. Talk\, sing\, read\, write and play together in a format appropriate for young children. Share books\, stories\, rhymes\, music and movement.For children of all ages and their parent or caregiver. Talk\, sing\, read\, write and play together in a format appropriate for young children. Share books\, stories\, rhymes\, music and movement.r
LOCATION:Rogers Library
UID:e.1321.2641
SEQUENCE:3
DTSTAMP:20260421T100257Z
URL:https://business.i94westchamber.org/events/details/family-storytime-04-12-2017-2641
END:VEVENT

END:VCALENDAR
