BEGIN:VCALENDAR
VERSION:2.0
PRODID:-//ChamberMaster//Event Calendar 2.0//EN
METHOD:PUBLISH
X-PUBLISHED-TTL:P3D
REFRESH-INTERVAL:P3D
CALSCALE:GREGORIAN
BEGIN:VEVENT
DTSTART:20130601T140000Z
DTEND:20130601T170000Z
X-MICROSOFT-CDO-ALLDAYEVENT:FALSE
SUMMARY:Farmers State Bank "SHRED IT" Day
DESCRIPTION:Farmers State Bank of Hamel\n\n	"Shred It" Day\n\n	Saturday\, June 1st \n\n	\n\n	Doing some spring cleaning and don't know what to do with your old bank\, credit card and financial statements?\n\n	\n\n	Come join us on Saturday June 1st\n\n	9:00 am -12:00 pm\n\n	for our "Shred It" Day\n\n	Location: Parking lot behind bank: (Hamel location)\n\n	 \n\n	 \n\n	Call 763 478 6611 for details\n\n	 \n\n	*** We will be collecting canned goods for a local food shelf***\n\n	 \n\n	Farmers State Bank of Hamel & Randy's Sanitation (Document Destruction)
X-ALT-DESC;FMTTYPE=text/html:<div style="text-align: center\;">\n	<span style="font-size:16px\;"><span style="font-family: tahoma\;"><span style="font-size:20px\;"><span style="color:#0000cd\;">Farmers State Bank of Hamel<br />\n	&quot\;Shred It&quot\; Day<br />\n	Saturday\, June 1st</span> </span><br />\n	<br />\n	Doing some spring cleaning and don&rsquo\;t know what to do with your old bank\, credit card and financial statements?<br />\n	<br />\n	<strong>Come join us on Saturday June 1st</strong><br />\n	<strong>9:00 am -12:00 pm<br />\n	for our <span style="color: red\;">&ldquo\;Shred It&rdquo\; Day</span></strong><br />\n	<strong>Location: Parking lot behind bank: (Hamel location)</strong><br />\n	&nbsp\;<br />\n	&nbsp\;<br />\n	Call 763 478 6611 for details<br />\n	&nbsp\;</span></span><br />\n	<span style="font-size:20px\;"><strong><span style="color: red\;"><span style="font-family: bradley hand itc\;">*** We will be collecting canned goods for a local food shelf***</span></span></strong></span><br />\n	&nbsp\;<br />\n	<strong><span style="color:black\;"><span style="font-size:10.0pt\;">Farmers State Bank of Hamel &amp\; Randy&rsquo\;s Sanitation (Document Destruction)</span></span></strong></div>\n
LOCATION:Farmers State Bank of Hamel 145 Hamel Road\, Hamel
UID:e.1321.937
SEQUENCE:3
DTSTAMP:20260425T140502Z
URL:https://business.i94westchamber.org/events/details/farmers-state-bank-shred-it-day-06-01-2013-937
END:VEVENT

END:VCALENDAR
