BEGIN:VCALENDAR
VERSION:2.0
PRODID:-//ChamberMaster//Event Calendar 2.0//EN
METHOD:PUBLISH
X-PUBLISHED-TTL:P3D
REFRESH-INTERVAL:P3D
CALSCALE:GREGORIAN
BEGIN:VEVENT
DTSTART:20170211T003000Z
DTEND:20170211T023000Z
X-MICROSOFT-CDO-ALLDAYEVENT:FALSE
SUMMARY:Father-Daughter Winter Wonderland Dance
DESCRIPTION:Save the Date!\n\nThe dance will run from 6:30 pm   8:30 pm.   Doors will open at 6:15 pm\n\nSt. Michael Elementary school located at 101 Central Ave\, St. Michael\n\nWatch for additional details as the dates nears.\n\nParking:\n\nIs available in multiple lots located around the school. Entrance for the dance will be through the main doors of the school "A" and in the south parking lot door "F"\n\nFood and beverage::\n\nBeverages and a treat will be provided throughout the evening\n\nPhotography:\n\nZahler Photography will be onsite to capture a memory of the evening. Packages begin at $15 for a 5x7 with folder and 4 wallets.  click here for a downloadable photography form  Zahler Photo Form\n\nRaffles:\n\n$1 raffle tickets are available throughout the evening for a variety of drawings\n\n \n\nIf you have any questions\, please do not hesitate to contact FYCC us at 763.496.6820
X-ALT-DESC;FMTTYPE=text/html:<p>Save the Date!</p>\n\n<p>The dance will run from 6:30 pm &ndash\; 8:30 pm.&nbsp\;&nbsp\; Doors will open at 6:15 pm</p>\n\n<p>St. Michael Elementary school located at 101 Central Ave\, St. Michael</p>\n\n<p>Watch for additional details as the dates nears.</p>\n\n<p><strong>Parking:</strong></p>\n\n<p>Is available in multiple lots located around the school. Entrance for the dance will be through the main doors of the school &ldquo\;A&rdquo\; and in the south parking lot door &ldquo\;F&rdquo\;</p>\n\n<p><strong>Food and beverage:</strong>:</p>\n\n<p>Beverages and a treat will be provided throughout the evening</p>\n\n<p><strong>Photography:</strong></p>\n\n<p>Zahler Photography will be onsite to capture a memory of the evening. Packages begin at $15 for a 5x7 with folder and 4 wallets.&nbsp\; click here for a downloadable photography form&nbsp\; <a href="http://www.myfycc.com/wp-content/uploads/2016/01/Zahler-Photo-Form.pdf">Zahler Photo Form</a></p>\n\n<p><strong>Raffles:</strong></p>\n\n<p>$1 raffle tickets are available throughout the evening for a variety of drawings</p>\n\n<p><strong>&nbsp\;</strong></p>\n\n<p>If you have any questions\, please do not hesitate to contact FYCC us at 763.496.6820</p>\n\n<p>&nbsp\;</p>\n
LOCATION:
UID:e.1321.2584
SEQUENCE:3
DTSTAMP:20260421T130954Z
URL:https://business.i94westchamber.org/events/details/father-daughter-winter-wonderland-dance-2584
END:VEVENT

END:VCALENDAR
