BEGIN:VCALENDAR
VERSION:2.0
PRODID:-//ChamberMaster//Event Calendar 2.0//EN
METHOD:PUBLISH
X-PUBLISHED-TTL:P3D
REFRESH-INTERVAL:P3D
CALSCALE:GREGORIAN
BEGIN:VEVENT
DTSTART:20150621T150000Z
DTEND:20150621T180000Z
X-MICROSOFT-CDO-ALLDAYEVENT:FALSE
SUMMARY:Father's Day Brunch
DESCRIPTION:Father's Day Brunch\n\nBrown Sugar & Honey All Natural Ham\n\nAngus Brisket & Roasted Vegetables\n\nGolden Roasted Chicken Breast with Tarragon Pan Jus\n\nBourbon BBQ St. Louis Pork Ribs\n\nAnd more\, more\, more\, more
X-ALT-DESC;FMTTYPE=text/html:Father&#39\;s Day Brunch<br />\nBrown Sugar &amp\; Honey All Natural Ham<br />\nAngus Brisket &amp\; Roasted Vegetables<br />\nGolden Roasted Chicken Breast with Tarragon Pan Jus<br />\nBourbon BBQ St. Louis Pork Ribs<br />\nAnd more\, more\, more\, more<br />\n&nbsp\;
LOCATION:Medina Entertainment Center 500 Hwy 55 Medina\, MN 763-478-6661
UID:e.1321.1601
SEQUENCE:3
DTSTAMP:20260422T171448Z
URL:https://business.i94westchamber.org/events/details/father-s-day-brunch-06-21-2015-1601
END:VEVENT

END:VCALENDAR
