BEGIN:VCALENDAR
VERSION:2.0
PRODID:-//ChamberMaster//Event Calendar 2.0//EN
METHOD:PUBLISH
X-PUBLISHED-TTL:P3D
REFRESH-INTERVAL:P3D
CALSCALE:GREGORIAN
BEGIN:VEVENT
DTSTART:20160228T172000Z
DTEND:20160228T181500Z
X-MICROSOFT-CDO-ALLDAYEVENT:FALSE
SUMMARY:Feed My Starving Children Workshop
DESCRIPTION:Learn about the starving children and people of the world and how they are helped by the ministry of Feed My Starving Children. Anne Miller will be our presenter for this special presentation. She will tell us about the history\, vision and work of this unique organization depending on volunteers hand-packing food for malnourished people across the world.
X-ALT-DESC;FMTTYPE=text/html:Learn about the starving children and people of the world and how they are helped by the ministry of Feed My Starving Children. Anne Miller will be our presenter for this special presentation. She will tell us about the history\, vision and work of this unique organization depending on volunteers hand-packing food for malnourished people across the world.
LOCATION:Holy Trinity Episcopal Church 1326 4th Street Northwest Elk River\, MN 55330
UID:e.1321.1870
SEQUENCE:3
DTSTAMP:20260422T053455Z
URL:https://business.i94westchamber.org/events/details/feed-my-starving-children-workshop-02-28-2016-1870
END:VEVENT

END:VCALENDAR
