BEGIN:VCALENDAR
VERSION:2.0
PRODID:-//ChamberMaster//Event Calendar 2.0//EN
METHOD:PUBLISH
X-PUBLISHED-TTL:P3D
REFRESH-INTERVAL:P3D
CALSCALE:GREGORIAN
BEGIN:VEVENT
DTSTART:20120816T233000Z
DTEND:20120817T013000Z
X-MICROSOFT-CDO-ALLDAYEVENT:FALSE
SUMMARY:Fiddle Faddle Farkle Event
DESCRIPTION:The STMA Women of Today invite you for a fun evening of Farkle\, the dice game!  Come and meet women in your community\, sip on some beverages\, enjoy some Fiddle Faddle\, and play Farkle!  Oh\, and there will be prizes\, too!
X-ALT-DESC;FMTTYPE=text/html:The STMA Women of Today invite you for a fun evening of Farkle\, the dice game!&nbsp\; Come and meet women in your community\, sip on some beverages\, enjoy some Fiddle Faddle\, and play Farkle!&nbsp\; Oh\, and there will be prizes\, too!<br />\n<br />\n
LOCATION:Lake Community Bank\, Albertville
UID:e.1321.667
SEQUENCE:3
DTSTAMP:20260426T041827Z
URL:https://business.i94westchamber.org/events/details/fiddle-faddle-farkle-event-08-16-2012-667
END:VEVENT

END:VCALENDAR
