BEGIN:VCALENDAR
VERSION:2.0
PRODID:-//ChamberMaster//Event Calendar 2.0//EN
METHOD:PUBLISH
X-PUBLISHED-TTL:P3D
REFRESH-INTERVAL:P3D
CALSCALE:GREGORIAN
BEGIN:VEVENT
DTSTART:20150418T180000Z
DTEND:20150418T193000Z
X-MICROSOFT-CDO-ALLDAYEVENT:FALSE
SUMMARY:First Pages for Kids: Writing Stories About Pets
DESCRIPTION:Grades 1-3. Let's share stories about our own companion animals as a group\, then work on sharing that joy\, love\, and fascination with your own pet in writing on paper!
X-ALT-DESC;FMTTYPE=text/html:<span style="font-family:calibri\,sans-serif\;"><span style="font-size:11.0pt\;">Grades 1-3. Let&#39\;s share stories about our own companion animals as a group\, then work on sharing that joy\, love\, and fascination with your own pet in writing on paper! </span></span>
LOCATION:Rogers Library 21300 John Milless Dr. Rogers\, MN 55374
UID:e.1321.1486
SEQUENCE:3
DTSTAMP:20260422T195811Z
URL:https://business.i94westchamber.org/events/details/first-pages-for-kids-writing-stories-about-pets-04-18-2015-1486
END:VEVENT

END:VCALENDAR
