BEGIN:VCALENDAR
VERSION:2.0
PRODID:-//ChamberMaster//Event Calendar 2.0//EN
METHOD:PUBLISH
X-PUBLISHED-TTL:P3D
REFRESH-INTERVAL:P3D
CALSCALE:GREGORIAN
BEGIN:VEVENT
DTSTART:20170523T163000Z
DTEND:20170523T180000Z
X-MICROSOFT-CDO-ALLDAYEVENT:FALSE
SUMMARY:First Responders Luncheon
DESCRIPTION:You are Invited to the 4th Annual First Responders Luncheon.\n\nThis Event is Sold Out.\n\nTICKETS ARE REQUIRED FOR ENTRY\n\n\n\nThe Fourth Annual First Responders Luncheon serves to honor our communities' police officers\, fire fighters\, EMS personnel\, and other individuals who have provided exceptional response in an emergency situation. We invite you to join us in appreciation and support of the outstanding performance of our local heroes.\n\n\n\n50% of the proceeds benefit MFFMA & LEMA\n\n\n\nThank you Raffle & Silent Auction Sponsors\n\n	\n		\n		\n		\n	\n	\n		\n			Item\n			Value\n			Donated by\n		\n		\n			RYOBI 18V Brushless Hammer Drill/Driver Kit\n			$149\n			Direct Tools Factory Outlet - Albertville\n		\n		\n			Oral B Genius Rechargeable Toothbrush Set\n			$140\n			A Gentle Dentle Center Rogers\n		\n		\n			MN Ziplines & Adventures\n			$99.00\n			MN Ziplines\n		\n		\n			$75 Gift Certificate to CPR Cell Phone Repair\n			$75\n			CPR - Plymouth\n		\n		\n			Gift Basket with $100 Gift Card\n			$140\n			Twin Cities Orthopedics\n		\n		\n			Kate Spade Purse and Wallet\n			$349\n			Albertville Outlet Mall\n		\n		\n			Twins Tickets  Twins vs. Baltimore 7/8/17\n			priceless\n			Voyaguer Real Estate\n		\n		\n			Overnight Stay at Radisson Blu / Bloomington\n			$169\n			Radisson Blu\n		\n		\n			Overnight Stay at Hampton Inn & Suites - Rogers\n			$100\n			Hampton Inn  & Suites - Rogers\n		\n		\n			Clive's Roadhouse - Rogers\n			$50\n			Clive's Roadhouse\n		\n		\n			Grand Casino One Night Stay & $20 Grand Play\n			$140\n			Grand Casino Mille Lacs / Hinckley\n		\n		\n			Gift Certs / D. Michael B's & Dehmers\n			$45\n			Dehmer's & D. Michael B's\n		\n		\n			Gift certs Phil's Quality Automotive & Urban Market\n			$85\n			Phil's & Urban Market\n		\n		\n			Gift Basket & $30 Gift Certs to 152 Club\n			$45\n			152 Club\n		\n		\n			INVU Ultra Polarized Sunglasses\n			$60\n			Eye Care Center - St. Michael\n		\n		\n			Valley Fair Tickets\n			$70\n			ValleyFair\n		\n		\n			Tickets to Peabody Players Improve Comedy Show\n			$100\n			Peabody Players\n		\n		\n			"United We Stand"  print\n			$70\n			Art Barbarians\n		\n		\n			"On Eagle's Wings" print\n			$70\n			Art Barbarians
X-ALT-DESC;FMTTYPE=text/html:<span style="font-size:14px\;"><span style="font-family: verdana\;">You are Invited to the 4th Annual First Responders Luncheon.<br />\n<strong><u>This Event is Sold Out.</u></strong><br />\n<u><strong>TICKETS ARE REQUIRED FOR ENTRY</strong></u><br />\n<br />\nThe Fourth Annual First Responders Luncheon serves to honor our communities&rsquo\; police officers\, fire fighters\, EMS personnel\, and other individuals who have provided exceptional response in an emergency situation. We invite you to join us in appreciation and support of the outstanding performance of our local heroes.<br />\n<br />\n50% of the proceeds benefit MFFMA &amp\; LEMA<br />\n<br />\nThank you Raffle &amp\; Silent Auction Sponsors</span></span>\n<table border="0" cellpadding="0" cellspacing="0" width="659">\n	<colgroup>\n		<col style="width:331px\;" />\n		<col style="width:76px\;" />\n		<col style="width:252px\;" />\n	</colgroup>\n	<tbody>\n		<tr height="20" style="height:20px\;">\n			<td height="20" style="height:20px\;width:331px\;">Item</td>\n			<td style="width:76px\;">Value</td>\n			<td style="width:252px\;">Donated by</td>\n		</tr>\n		<tr height="20" style="height:20px\;">\n			<td height="20" style="height:20px\;">RYOBI 18V Brushless Hammer Drill/Driver Kit</td>\n			<td>$149</td>\n			<td>Direct Tools Factory Outlet - Albertville</td>\n		</tr>\n		<tr height="20" style="height:20px\;">\n			<td height="20" style="height:20px\;">Oral B Genius Rechargeable Toothbrush Set</td>\n			<td>$140</td>\n			<td>A Gentle Dentle Center Rogers</td>\n		</tr>\n		<tr height="20" style="height:20px\;">\n			<td height="20" style="height:20px\;">MN Ziplines &amp\; Adventures</td>\n			<td>$99.00</td>\n			<td>MN Ziplines</td>\n		</tr>\n		<tr height="20" style="height:20px\;">\n			<td height="20" style="height:20px\;">$75 Gift Certificate to CPR Cell Phone Repair</td>\n			<td>$75</td>\n			<td>CPR - Plymouth</td>\n		</tr>\n		<tr height="20" style="height:20px\;">\n			<td height="20" style="height:20px\;">Gift Basket with $100 Gift Card</td>\n			<td>$140</td>\n			<td>Twin Cities Orthopedics</td>\n		</tr>\n		<tr height="20" style="height:20px\;">\n			<td height="20" style="height:20px\;">Kate Spade Purse and Wallet</td>\n			<td>$349</td>\n			<td>Albertville Outlet Mall</td>\n		</tr>\n		<tr height="20" style="height:20px\;">\n			<td height="20" style="height:20px\;">Twins Tickets&nbsp\; Twins vs. Baltimore 7/8/17</td>\n			<td>priceless</td>\n			<td>Voyaguer Real Estate</td>\n		</tr>\n		<tr height="20" style="height:20px\;">\n			<td height="20" style="height:20px\;">Overnight Stay at Radisson Blu / Bloomington</td>\n			<td>$169</td>\n			<td>Radisson Blu</td>\n		</tr>\n		<tr height="20" style="height:20px\;">\n			<td height="20" style="height:20px\;">Overnight Stay at Hampton Inn &amp\; Suites - Rogers</td>\n			<td>$100</td>\n			<td>Hampton Inn&nbsp\; &amp\; Suites - Rogers</td>\n		</tr>\n		<tr height="20" style="height:20px\;">\n			<td height="20" style="height:20px\;">Clive&#39\;s Roadhouse - Rogers</td>\n			<td>$50</td>\n			<td>Clive&#39\;s Roadhouse</td>\n		</tr>\n		<tr height="20" style="height:20px\;">\n			<td height="20" style="height:20px\;">Grand Casino One Night Stay &amp\; $20 Grand Play</td>\n			<td>$140</td>\n			<td>Grand Casino Mille Lacs / Hinckley</td>\n		</tr>\n		<tr height="20" style="height:20px\;">\n			<td height="20" style="height:20px\;">Gift Certs / D. Michael B&#39\;s &amp\; Dehmers</td>\n			<td>$45</td>\n			<td>Dehmer&#39\;s &amp\; D. Michael B&#39\;s</td>\n		</tr>\n		<tr height="20" style="height:20px\;">\n			<td height="20" style="height:20px\;">Gift certs Phil&#39\;s Quality Automotive &amp\; Urban Market</td>\n			<td>$85</td>\n			<td>Phil&#39\;s &amp\; Urban Market</td>\n		</tr>\n		<tr height="20" style="height:20px\;">\n			<td height="20" style="height:20px\;">Gift Basket &amp\; $30 Gift Certs to 152 Club</td>\n			<td>$45</td>\n			<td>152 Club</td>\n		</tr>\n		<tr height="20" style="height:20px\;">\n			<td height="20" style="height:20px\;">INVU Ultra Polarized Sunglasses</td>\n			<td>$60</td>\n			<td>Eye Care Center - St. Michael</td>\n		</tr>\n		<tr height="20" style="height:20px\;">\n			<td height="20" style="height:20px\;">Valley Fair Tickets</td>\n			<td>$70</td>\n			<td>ValleyFair</td>\n		</tr>\n		<tr height="20" style="height:20px\;">\n			<td height="20" style="height:20px\;">Tickets to Peabody Players Improve Comedy Show</td>\n			<td>$100</td>\n			<td>Peabody Players</td>\n		</tr>\n		<tr height="20" style="height:20px\;">\n			<td height="20" style="height:20px\;">&quot\;United We Stand&quot\;&nbsp\; print</td>\n			<td>$70</td>\n			<td>Art Barbarians</td>\n		</tr>\n		<tr height="20" style="height:20px\;">\n			<td height="20" style="height:20px\;">&quot\;On Eagle&#39\;s Wings&quot\; print</td>\n			<td>$70</td>\n			<td>Art Barbarians</td>\n		</tr>\n	</tbody>\n</table>\n
LOCATION:Medina Entertainment Center 500 Highway 55\, Medina
UID:e.1321.2421
SEQUENCE:3
DTSTAMP:20260421T084443Z
URL:https://business.i94westchamber.org/events/details/first-responders-luncheon-2421
END:VEVENT

END:VCALENDAR
