BEGIN:VCALENDAR
VERSION:2.0
PRODID:-//ChamberMaster//Event Calendar 2.0//EN
METHOD:PUBLISH
X-PUBLISHED-TTL:P3D
REFRESH-INTERVAL:P3D
CALSCALE:GREGORIAN
BEGIN:VEVENT
DTSTART:20150628T110000Z
DTEND:20150628T170000Z
X-MICROSOFT-CDO-ALLDAYEVENT:FALSE
SUMMARY:Flea Market
DESCRIPTION:Flea Market by the Hamel Lions
X-ALT-DESC;FMTTYPE=text/html:Flea Market by the Hamel Lions
LOCATION:Medina Entertainment Center 500 Hwy 55 Medina\, MN 55340
UID:e.1321.1593
SEQUENCE:3
DTSTAMP:20260422T183512Z
URL:https://business.i94westchamber.org/events/details/flea-market-06-28-2015-1593
END:VEVENT

END:VCALENDAR
