BEGIN:VCALENDAR
VERSION:2.0
PRODID:-//ChamberMaster//Event Calendar 2.0//EN
METHOD:PUBLISH
X-PUBLISHED-TTL:P3D
REFRESH-INTERVAL:P3D
CALSCALE:GREGORIAN
BEGIN:VEVENT
DTSTART:20170107T171500Z
DTEND:20170107T180000Z
X-MICROSOFT-CDO-ALLDAYEVENT:FALSE
SUMMARY:Free Fitness Seminar
DESCRIPTION:We have a FREE Fitness Seminar coming up this Saturday\, the 7th\, at 11:15am to discuss our NEW Doctor-Supervised Weight Loss Program. Our speakers will be Dr. Jeremy Payne & Kristine Christensen. You won't want to miss this!
X-ALT-DESC;FMTTYPE=text/html:We have a FREE Fitness Seminar coming up this Saturday\, the 7th\, at 11:15am to discuss our NEW Doctor-Supervised Weight Loss Program. Our speakers will be Dr. Jeremy Payne &amp\; Kristine Christensen. You won't want to miss this!
LOCATION:Three Rivers Fitness 9201 Quaday Ave NE #101 Otsego\, MN 55330
UID:e.1321.2597
SEQUENCE:3
DTSTAMP:20260421T144328Z
URL:https://business.i94westchamber.org/events/details/free-fitness-seminar-2597
END:VEVENT

END:VCALENDAR
