BEGIN:VCALENDAR
VERSION:2.0
PRODID:-//ChamberMaster//Event Calendar 2.0//EN
METHOD:PUBLISH
X-PUBLISHED-TTL:P3D
REFRESH-INTERVAL:P3D
CALSCALE:GREGORIAN
BEGIN:VEVENT
DTSTART;VALUE=DATE:20161111
DTEND;VALUE=DATE:20161112
TRANSP:TRANSPARENT
X-MICROSOFT-CDO-ALLDAYEVENT:TRUE
SUMMARY:FREE Haircuts to Active Duty Military & Veterans
DESCRIPTION:Sport Clips in Rogers will  be giving free haircuts to active-duty military and veterans on Veterans Day\, with valid proof of service. \n\n \n\nSport Clips makes a commitment to those who serve our country not just in word\, but through action. In addition to Help A Hero\, Sport Clips offers special franchising options through the International Franchise Association's (IFA) VetFran Program\, and is a supporter of Ageless Aviation Dreams Foundation\, the Aleethia Foundation and numerous other military and philanthropic programs.\n\n \n\nAs a former Air Force officer\, Sport Clips' founder and CEO Gordon Logan has a special place in his heart for active-duty military and veterans. He serves on the VFW Foundation Board and has served as chairman of the IFA's VetFran Mentor Network.
X-ALT-DESC;FMTTYPE=text/html:<br />\n<strong><span style="font-family:arial\,sans-serif\;"><span style="font-size:11.0pt\;">Sport Clips in Rogers</span></span></strong><span style="font-family:arial\,sans-serif\;"><span style="font-size:11.0pt\;"> will&nbsp\; be giving <strong>free haircuts</strong> to active-duty military and veterans on Veterans Day\, with valid proof of service. </span></span><br />\n&nbsp\;<br />\n<span style="font-family:arial\,sans-serif\;"><span style="font-size:11.0pt\;">Sport Clips makes a commitment to those who serve our country not just in word\, but through action. In addition to Help A Hero\, Sport Clips offers special franchising options through the International Franchise Association&rsquo\;s (IFA) VetFran Program\, and is a supporter of Ageless Aviation Dreams Foundation\, the Aleethia Foundation and numerous other military and philanthropic programs.</span></span><br />\n&nbsp\;<br />\n<span style="font-family:arial\,sans-serif\;"><span style="font-size:11.0pt\;">As a former Air Force officer\, Sport Clips&rsquo\; founder and CEO </span></span><a href="http://www.sportclips.com/File%20Library/Media%20Kit/Media-Kit_Logan-Background.pdf"><span style="font-family:arial\,sans-serif\;"><span style="font-size:11.0pt\;">Gordon Logan</span></span></a><span style="font-family:arial\,sans-serif\;"><span style="font-size:11.0pt\;"> has a special place in his heart for active-duty military and veterans. He serves on the VFW Foundation Board and has served as chairman of the IFA&rsquo\;s VetFran Mentor Network. </span></span><br />\n&nbsp\;<br />\n&nbsp\;
LOCATION:Sport Clips Haircuts of Rogers - Haircuts for Men in Rogers 13545 Northdale Blvd #10\, Rogers\, MN 55374
UID:e.1321.2514
SEQUENCE:3
DTSTAMP:20260421T173625Z
URL:https://business.i94westchamber.org/events/details/free-haircuts-to-active-duty-military-veterans-2514
END:VEVENT

END:VCALENDAR
