BEGIN:VCALENDAR
VERSION:2.0
PRODID:-//ChamberMaster//Event Calendar 2.0//EN
METHOD:PUBLISH
X-PUBLISHED-TTL:P3D
REFRESH-INTERVAL:P3D
CALSCALE:GREGORIAN
BEGIN:VEVENT
DTSTART:20141214T233000Z
DTEND:20141215T013000Z
X-MICROSOFT-CDO-ALLDAYEVENT:FALSE
SUMMARY:Free Pic with Santa
DESCRIPTION:Broadway Pizza of Rogers is hosting a free picture with Santa. Just bring a non-perishable food donation to the Food Group.
X-ALT-DESC;FMTTYPE=text/html:Broadway Pizza of Rogers is hosting a free picture with Santa. Just bring a non-perishable food donation to the Food Group.
LOCATION:Broadway Pizza of Rogers
UID:e.1321.1359
SEQUENCE:3
DTSTAMP:20260424T125900Z
URL:https://business.i94westchamber.org/events/details/free-pic-with-santa-12-14-2014-1359
END:VEVENT

END:VCALENDAR
