BEGIN:VCALENDAR
VERSION:2.0
PRODID:-//ChamberMaster//Event Calendar 2.0//EN
METHOD:PUBLISH
X-PUBLISHED-TTL:P3D
REFRESH-INTERVAL:P3D
CALSCALE:GREGORIAN
BEGIN:VEVENT
DTSTART:20150513T150000Z
DTEND:20150513T160000Z
X-MICROSOFT-CDO-ALLDAYEVENT:FALSE
SUMMARY:Friends of the Rogers Library Adult Book Club
DESCRIPTION:Join our discussion of new and interesting titles. Bring along your recommendations for future meetings.
X-ALT-DESC;FMTTYPE=text/html:<span style="font-family:calibri\,sans-serif\;"><span style="font-size:11.0pt\;">Join our discussion of new and interesting titles. Bring along your recommendations for future meetings. </span></span>
LOCATION:Rogers Library 21300 John Milless Dr. Rogers\, MN 55374
UID:e.1321.1479
SEQUENCE:3
DTSTAMP:20260422T184226Z
URL:https://business.i94westchamber.org/events/details/friends-of-the-rogers-library-adult-book-club-05-13-2015-1479
END:VEVENT

END:VCALENDAR
