BEGIN:VCALENDAR
VERSION:2.0
PRODID:-//ChamberMaster//Event Calendar 2.0//EN
METHOD:PUBLISH
X-PUBLISHED-TTL:P3D
REFRESH-INTERVAL:P3D
CALSCALE:GREGORIAN
BEGIN:VEVENT
DTSTART:20170506T140000Z
DTEND:20170506T170000Z
X-MICROSOFT-CDO-ALLDAYEVENT:FALSE
SUMMARY:FYCC Bike Rodeo
DESCRIPTION:St. Michael Bike Rodeo\n\nHit the St. Michael City Center parking lot between 9 a.m. and noon\, and be sure to bring your child's bike. Check out the FYCC/Open Streets Facebook
X-ALT-DESC;FMTTYPE=text/html:<p><strong>St. Michael Bike Rodeo</strong><br />\nHit the St. Michael City Center parking lot between 9 a.m. and noon\, and be sure to bring your child&rsquo\;s bike. Check out the <a href="https://www.facebook.com/OpenStreetsSTMA?fref=ts" target="_blank">FYCC/Open Streets Facebook </a></p>\n
LOCATION:
UID:e.1321.2905
SEQUENCE:3
DTSTAMP:20260421T083535Z
URL:https://business.i94westchamber.org/events/details/fycc-bike-rodeo-2905
END:VEVENT

END:VCALENDAR
