BEGIN:VCALENDAR
VERSION:2.0
PRODID:-//ChamberMaster//Event Calendar 2.0//EN
METHOD:PUBLISH
X-PUBLISHED-TTL:P3D
REFRESH-INTERVAL:P3D
CALSCALE:GREGORIAN
BEGIN:VEVENT
DTSTART:20141031T210000Z
DTEND:20141101T000000Z
X-MICROSOFT-CDO-ALLDAYEVENT:FALSE
SUMMARY:FYCC Friendly Spook House
DESCRIPTION:FYCC Friendly Spook House\n\nFriday\, October 31\, 2014\n\n4:00p.m.   7:00p.m.\n\nLocation: FYCC Building and Grounds- 5975 Main Avenue NE\, Albertville\, MN 55301\n\n$7 per child admission includes:\n\nHalloween Stories read by the Friends of the Library\n\nGames\n\nGoodie Bag\n\nOutdoor Events\n\nHay Rides\n\nStraw Bale Maze\n\nPumpkin Bowling\n\nGourd Painting\n\nPhoto Opportunities\n\nWe would love to see you in costume!\n\n*Children must be accompanied by an adult.
X-ALT-DESC;FMTTYPE=text/html:<p><strong>FYCC Friendly Spook House</strong></p>\n\n<p><strong>Friday\, October 31\, 2014</strong></p>\n\n<p><strong>4:00p.m. &ndash\; 7:00p.m</strong><strong>.</strong></p>\n\n<p>Location: <strong>FYCC Building and Grounds</strong>- 5975 Main Avenue NE\, Albertville\, MN 55301</p>\n\n<p>$7 per child admission includes:</p>\n\n<p>Halloween Stories read by the Friends of the Library</p>\n\n<p>Games</p>\n\n<p>Goodie Bag</p>\n\n<p>Outdoor Events</p>\n\n<p>Hay Rides</p>\n\n<p>Straw Bale Maze</p>\n\n<p>Pumpkin Bowling</p>\n\n<p>Gourd Painting</p>\n\n<p>Photo Opportunities</p>\n\n<p>We would love to see you in costume!</p>\n\n<p>*Children must be accompanied by an adult.</p>\n
LOCATION:
UID:e.1321.1259
SEQUENCE:3
DTSTAMP:20260424T155423Z
URL:https://business.i94westchamber.org/events/details/fycc-friendly-spook-house-10-31-2014-1259
END:VEVENT

END:VCALENDAR
