BEGIN:VCALENDAR
VERSION:2.0
PRODID:-//ChamberMaster//Event Calendar 2.0//EN
METHOD:PUBLISH
X-PUBLISHED-TTL:P3D
REFRESH-INTERVAL:P3D
CALSCALE:GREGORIAN
BEGIN:VEVENT
DTSTART:20120814T233000Z
DTEND:20120815T013000Z
X-MICROSOFT-CDO-ALLDAYEVENT:FALSE
SUMMARY:General Meeting
DESCRIPTION:Join the STMA Women of Today for the general meeting on Tuesday\, August 14. \n\n	Social time from 6:30 until 7:00\, when the meeting start promptly.\n\n	\n\n	Come find out what we are all about!! \n\n	\n\n	Visit our website for more information: www.stmawt.org or send an email with questions to info@stmawt.org.
X-ALT-DESC;FMTTYPE=text/html:<p>\n	Join the STMA Women of Today for the general meeting on Tuesday\, August 14.&nbsp\;<br />\n	Social time from 6:30 until 7:00\, when the meeting start promptly.<br />\n	<br />\n	<em>Come find out what we are all about!! </em><br />\n	<br />\n	Visit our website for more information: <a href="http://www.stmawt.org">www.stmawt.org</a> or send an email with questions to <a href="mailto:info@stmawt.org">info@stmawt.org</a>.&nbsp\;<br />\n	<br />\n	<br />\n	&nbsp\;</p>\n
LOCATION:Lake Community Bank 11102 57th Street Northeast Albertville\, MN 55301
UID:e.1321.669
SEQUENCE:3
DTSTAMP:20260426T025213Z
URL:https://business.i94westchamber.org/events/details/general-meeting-08-14-2012-669
END:VEVENT

END:VCALENDAR
