BEGIN:VCALENDAR
VERSION:2.0
PRODID:-//ChamberMaster//Event Calendar 2.0//EN
METHOD:PUBLISH
X-PUBLISHED-TTL:P3D
REFRESH-INTERVAL:P3D
CALSCALE:GREGORIAN
BEGIN:VEVENT
DTSTART:20151008T220000Z
DTEND:20151009T010000Z
X-MICROSOFT-CDO-ALLDAYEVENT:FALSE
SUMMARY:Girls Night Out for CROSS at The Woods Maple Grove
DESCRIPTION:Girls Night Out for CROSS Services\n\nOct. 8 - Girls Night Out at The Woods\, 15825 95th Ave. N.\, Maple Grove from 5-8 p.m. Enjoy wine\, hors d'oeuvres\, free massages\, live music\, 10 percent off all regular priced items\, and more during the annual event of which 10 percent of the proceeds are donated to CROSS Services. Receive a free gift by donating $10 or more to CROSS.  A nonprofit organization\, CROSS serves the communities of Maple Grove\, Rogers\, Osseo\, Corcoran\, Dayton\, and west Champlin\, helping families and individuals in need. CROSS Services programs include a food shelf\, Meals on Wheels\, clothing closet\, school supplies\, birthday and holiday toy shop\, Peace of Mind Housing financial assistance and more. Visit www.CROSSservices.org or call 763-425-1050 for more information about CROSS Services.
X-ALT-DESC;FMTTYPE=text/html:<em>Girls Night Out for CROSS Services</em><br />\n<em>Oct. 8 - Girls Night Out at The Woods\, 15825 95<sup>th</sup> Ave. N.\, Maple Grove from 5-8 p.m. Enjoy wine\, hors d&rsquo\;oeuvres\, free massages\, live music\, 10 percent off all regular priced items\, and more during the annual event of which 10 percent of the proceeds are donated to CROSS Services. Receive a free gift by donating $10 or more to CROSS.<span style="color:red"> &nbsp\;</span>A nonprofit organization\, CROSS serves the communities of Maple Grove\, Rogers\, Osseo\, Corcoran\, Dayton\, and west Champlin\, helping families and individuals in need. CROSS Services programs include a food shelf\, Meals on Wheels\, clothing closet\, school supplies\, birthday and holiday toy shop\, Peace of Mind Housing financial assistance and more. Visit <a href="http://www.CROSSservices.org"><span style="color:windowtext">www.CROSSservices.org</span></a> or call 763-425-1050 for more information about CROSS Services.&nbsp\;</em>
LOCATION:15825 95th Ave N\, Maple Grove\, MN 55369
UID:e.1321.1696
SEQUENCE:3
DTSTAMP:20260422T113812Z
URL:https://business.i94westchamber.org/events/details/girls-night-out-for-cross-at-the-woods-maple-grove-10-08-2015-1696
END:VEVENT

END:VCALENDAR
