BEGIN:VCALENDAR
VERSION:2.0
PRODID:-//ChamberMaster//Event Calendar 2.0//EN
METHOD:PUBLISH
X-PUBLISHED-TTL:P3D
REFRESH-INTERVAL:P3D
CALSCALE:GREGORIAN
BEGIN:VEVENT
DTSTART:20141104T173000Z
DTEND:20141104T183000Z
X-MICROSOFT-CDO-ALLDAYEVENT:FALSE
SUMMARY:Globalization: Ecolab's Journey
DESCRIPTION:Join us for the 2014 Alkire Symposium with guest lecturer Ching-Meng Chew\, vice president and treasurer for Ecolab Inc.
X-ALT-DESC;FMTTYPE=text/html:Join us for the 2014 Alkire Symposium with guest lecturer Ching-Meng Chew\, vice president and treasurer for Ecolab Inc.
LOCATION:Sudin Music Hall\, Hamline University\, 1531 Hewitt Ave\, St. Paul\, MN
UID:e.1321.1204
SEQUENCE:3
DTSTAMP:20260424T141418Z
URL:https://business.i94westchamber.org/events/details/globalization-ecolab-s-journey-11-04-2014-1204
END:VEVENT

END:VCALENDAR
