BEGIN:VCALENDAR
VERSION:2.0
PRODID:-//ChamberMaster//Event Calendar 2.0//EN
METHOD:PUBLISH
X-PUBLISHED-TTL:P3D
REFRESH-INTERVAL:P3D
CALSCALE:GREGORIAN
BEGIN:VEVENT
DTSTART:20161124T000000Z
DTEND:20161124T011500Z
X-MICROSOFT-CDO-ALLDAYEVENT:FALSE
SUMMARY:Gobbler Open Skate
DESCRIPTION:Open Skating\n\nFREE Admission with a non-perishable food item for the local food shelf
X-ALT-DESC;FMTTYPE=text/html:Open Skating<br />\nFREE Admission with a non-perishable food item for the local food shelf
LOCATION:Rogers Activity Center 21080 141st Ave. Rogers\, MN 55374
UID:e.1321.2468
SEQUENCE:3
DTSTAMP:20260421T184127Z
URL:https://business.i94westchamber.org/events/details/gobbler-open-skate-2468
END:VEVENT

END:VCALENDAR
