BEGIN:VCALENDAR
VERSION:2.0
PRODID:-//ChamberMaster//Event Calendar 2.0//EN
METHOD:PUBLISH
X-PUBLISHED-TTL:P3D
REFRESH-INTERVAL:P3D
CALSCALE:GREGORIAN
BEGIN:VEVENT
DTSTART:20170412T180000Z
DTEND:20170412T183000Z
X-MICROSOFT-CDO-ALLDAYEVENT:FALSE
SUMMARY:Grand Opening & Ribbon Cutting
DESCRIPTION:Please join us at our Grand Opening.\n\n\n\nRefreshments provided.
X-ALT-DESC;FMTTYPE=text/html:Please join us at our Grand Opening.<br />\n<br />\nRefreshments provided.
LOCATION:Knudson Chiropractic 21897 South Diamond Lake Road Rogers\, MN
UID:e.1321.2951
SEQUENCE:3
DTSTAMP:20260421T113121Z
URL:https://business.i94westchamber.org/events/details/grand-opening-ribbon-cutting-2951
END:VEVENT

END:VCALENDAR
