BEGIN:VCALENDAR
VERSION:2.0
PRODID:-//ChamberMaster//Event Calendar 2.0//EN
METHOD:PUBLISH
X-PUBLISHED-TTL:P3D
REFRESH-INTERVAL:P3D
CALSCALE:GREGORIAN
BEGIN:VEVENT
DTSTART:20150809T150000Z
DTEND:20150809T161500Z
X-MICROSOFT-CDO-ALLDAYEVENT:FALSE
SUMMARY:"Green" Outdoor Worship Service with Harp Music
DESCRIPTION:A "Green" Worship Service will be held to celebrate all of God's creatures and creation. The Holy Trinity Contemporary Choir will be singing along with special harp music played by Laurie Praetorius\, Principal Harpist of the St. Cloud Symphony Orchestra. Creation hymns will be sung as well as special prayers will be said related to Mother Earth and in thanksgiving for all of God's creatures. In case of inclement weather\, the service will be held in the church.
X-ALT-DESC;FMTTYPE=text/html:A &quot\;Green&quot\; Worship Service will be held to celebrate all of God&#39\;s creatures and creation. The Holy Trinity Contemporary Choir will be singing along with special harp music played by Laurie Praetorius\, Principal Harpist of the St. Cloud Symphony Orchestra. Creation hymns will be sung as well as special prayers will be said related to Mother Earth and in thanksgiving for all of God&#39\;s creatures. In case of inclement weather\, the service will be held in the church.
LOCATION:Holy Trinity Episcopal Church 1326 4th Street NW Elk River\, MN 55330
UID:e.1321.1684
SEQUENCE:3
DTSTAMP:20260422T142326Z
URL:https://business.i94westchamber.org/events/details/green-outdoor-worship-service-with-harp-music-08-09-2015-1684
END:VEVENT

END:VCALENDAR
