BEGIN:VCALENDAR
VERSION:2.0
PRODID:-//ChamberMaster//Event Calendar 2.0//EN
METHOD:PUBLISH
X-PUBLISHED-TTL:P3D
REFRESH-INTERVAL:P3D
CALSCALE:GREGORIAN
BEGIN:VEVENT
DTSTART:20140405T153000Z
DTEND:20140405T163000Z
X-MICROSOFT-CDO-ALLDAYEVENT:FALSE
SUMMARY:Grow Your Own Easter Basket
DESCRIPTION:Bring SPRING indoors by growing the grass for your Easter baskets. A great family project to embrace Spring's arrival. The project will include a basket\, wheat grass\, pansy\, pussy willow and tissue paper decorated egg. Leave it here in our greenhouse. We will water it for you and you can pick it up on Saturday\, April 19. You may bring in your own basket or containers and pricing will be adjusted. (Note: grass needs two weeks prior to Easter to grow)
X-ALT-DESC;FMTTYPE=text/html:Bring SPRING indoors by growing the grass for your Easter baskets. A great family project to embrace Spring&#39\;s arrival. The project will include a basket\, wheat grass\, pansy\, pussy willow and tissue paper decorated egg. Leave it here in our greenhouse. We will water it for you and you can pick it up on Saturday\, April 19. You may bring in your own basket or containers and pricing will be adjusted. (Note: grass needs two weeks prior to Easter to grow)
LOCATION:101 Market 8980 Quantrelle Ave. NE Otsego\, MN 55330
UID:e.1321.1083
SEQUENCE:3
DTSTAMP:20260424T233614Z
URL:https://business.i94westchamber.org/events/details/grow-your-own-easter-basket-04-05-2014-1083
END:VEVENT

END:VCALENDAR
