BEGIN:VCALENDAR
VERSION:2.0
PRODID:-//ChamberMaster//Event Calendar 2.0//EN
METHOD:PUBLISH
X-PUBLISHED-TTL:P3D
REFRESH-INTERVAL:P3D
CALSCALE:GREGORIAN
BEGIN:VEVENT
DTSTART:20150622T170000Z
DTEND:20150622T230000Z
X-MICROSOFT-CDO-ALLDAYEVENT:FALSE
SUMMARY:Guardian Angels 1st Annual Golf Tournament
DESCRIPTION:Check-in 11:00 a.m.\, Dinner only is $20.00 per person. Prizes will be awarded and there will be a chance to win contests on several holes. There will be some great raffle prizes as well. Registration Deadline: Thursday\, June 18\, 2015. Proceeds from the tournament will be used to purchase: Outdoor Furniture\, Music System\, Internal resident mailboxes for Engel Haus. With a chance to be a sponsor\, play great golf\, win prizes and support Guardian Angels Engel Haus\, the race to the tee is on!
X-ALT-DESC;FMTTYPE=text/html:Check-in 11:00 a.m.\, Dinner only is $20.00 per person. Prizes will be awarded and there will be a chance to win contests on several holes. There will be some great raffle prizes as well. Registration Deadline: Thursday\, June 18\, 2015. Proceeds from the tournament will be used to purchase: Outdoor Furniture\, Music System\, Internal resident mailboxes for Engel Haus. With a chance to be a sponsor\, play great golf\, win prizes and support Guardian Angels Engel Haus\, the race to the tee is on!
LOCATION:Riverwood National Golf Course\, 10247 - 95th Street NE\, Otsego\, MN 55362
UID:e.1321.1589
SEQUENCE:3
DTSTAMP:20260422T171929Z
URL:https://business.i94westchamber.org/events/details/guardian-angels-1st-annual-golf-tournament-06-22-2015-1589
END:VEVENT

END:VCALENDAR
