BEGIN:VCALENDAR
VERSION:2.0
PRODID:-//ChamberMaster//Event Calendar 2.0//EN
METHOD:PUBLISH
X-PUBLISHED-TTL:P3D
REFRESH-INTERVAL:P3D
CALSCALE:GREGORIAN
BEGIN:VEVENT
DTSTART:20150902T190000Z
DTEND:20150903T000000Z
X-MICROSOFT-CDO-ALLDAYEVENT:FALSE
SUMMARY:Guardian Angels Care Center's 50 Year Celebration-Come to the Fair
DESCRIPTION:Join us as we celebrate 5o years of serving seniors with Guardian Angels Care Center Fair Days- Antique tractors\, cars\, woodcarvings\, carriage rides\, crafts\, baked goods and more. Entertainment\, fun for the kids and free hamburgers\, hot dogs\, corn on the cob and beverages provided by the Elk River Lions. Resident Council selling mini-donuts\, nachos and slushies. See you at the Fair!
X-ALT-DESC;FMTTYPE=text/html:Join us as we celebrate 5o years of serving seniors with Guardian Angels Care Center Fair Days- Antique tractors\, cars\, woodcarvings\, carriage rides\, crafts\, baked goods and more. Entertainment\, fun for the kids and free hamburgers\, hot dogs\, corn on the cob and beverages provided by the Elk River Lions. Resident Council selling mini-donuts\, nachos and slushies. See you at the Fair!
LOCATION:Guardian Angels Care Center\, 400 Evans Ave. NW\, Elk River.
UID:e.1321.1692
SEQUENCE:3
DTSTAMP:20260422T125345Z
URL:https://business.i94westchamber.org/events/details/guardian-angels-care-center-s-50-year-celebration-come-to-the-fair-09-02-2015-1692
END:VEVENT

END:VCALENDAR
