BEGIN:VCALENDAR
VERSION:2.0
PRODID:-//ChamberMaster//Event Calendar 2.0//EN
METHOD:PUBLISH
X-PUBLISHED-TTL:P3D
REFRESH-INTERVAL:P3D
CALSCALE:GREGORIAN
BEGIN:VEVENT
DTSTART:20161019T160000Z
DTEND:20161019T170000Z
X-MICROSOFT-CDO-ALLDAYEVENT:FALSE
SUMMARY:Guardian Angels\; We're Hiring!
DESCRIPTION:Wed 11 AM   Guardian Angels Care Center   Elk River
X-ALT-DESC;FMTTYPE=text/html:<div>\n<div class="_3j4q">\n<div>\n<div class="_3j4r">Wed 11 AM<span role="presentation"> &middot\; </span>Guardian Angels Care Center&nbsp\;&middot\;&nbsp\;Elk River</div>\n\n<div class="_7u2">&nbsp\;</div>\n</div>\n</div>\n</div>\n
LOCATION:
UID:e.1321.2479
SEQUENCE:3
DTSTAMP:20260421T190122Z
URL:https://business.i94westchamber.org/events/details/guardian-angels-we-re-hiring-2479
END:VEVENT

END:VCALENDAR
