BEGIN:VCALENDAR
VERSION:2.0
PRODID:-//ChamberMaster//Event Calendar 2.0//EN
METHOD:PUBLISH
X-PUBLISHED-TTL:P3D
REFRESH-INTERVAL:P3D
CALSCALE:GREGORIAN
BEGIN:VEVENT
DTSTART:20161002T030000Z
DTEND:20161002T040000Z
X-MICROSOFT-CDO-ALLDAYEVENT:FALSE
SUMMARY:Guided Tour of St. John the Evangelist Episcopal Cemetary
DESCRIPTION:The tour will include narratives on early Church & cemetery history. It will also include information on early settlers\, Civil War Veterans and other Military Veterans buried there.
X-ALT-DESC;FMTTYPE=text/html:The tour will include narratives on early Church &amp\; cemetery history. It will also include information on early settlers\, Civil War Veterans and other Military Veterans buried there.
LOCATION:24550 Territorial Road\, Rogers\, MN
UID:e.1321.2426
SEQUENCE:3
DTSTAMP:20260421T190543Z
URL:https://business.i94westchamber.org/events/details/guided-tour-of-st-john-the-evangelist-episcopal-cemetary-2426
END:VEVENT

END:VCALENDAR
