BEGIN:VCALENDAR
VERSION:2.0
PRODID:-//ChamberMaster//Event Calendar 2.0//EN
METHOD:PUBLISH
X-PUBLISHED-TTL:P3D
REFRESH-INTERVAL:P3D
CALSCALE:GREGORIAN
BEGIN:VEVENT
DTSTART:20141005T160000Z
DTEND:20141005T210000Z
X-MICROSOFT-CDO-ALLDAYEVENT:FALSE
SUMMARY:Hamel Fire Open House
DESCRIPTION:On October 5th\, 2014 we are having our annual Open House at the Fire Station. Everyone is welcome to join us between 11 and 4. There will be food\, activities for kids\, live fire demonstrations\, a visit from North Memorial Air Care and a raffle!
X-ALT-DESC;FMTTYPE=text/html:<span class="userContent" data-ft="{&quot\;tn&quot\;:&quot\;K&quot\;}">On October 5th\, 2014 we are having our annual Open House at the Fire Station. Everyone is welcome to join us between 11 and 4. There will be food\, activities for kids\, live fire demonstrations\, a visit from North Memorial Air Care and a raffle!&nbsp\;</span><br />\n&nbsp\;
LOCATION:92 Hamel Road Hamel\, MN 55340
UID:e.1321.1234
SEQUENCE:3
DTSTAMP:20260424T153843Z
URL:https://business.i94westchamber.org/events/details/hamel-fire-open-house-10-05-2014-1234
END:VEVENT

END:VCALENDAR
