BEGIN:VCALENDAR
VERSION:2.0
PRODID:-//ChamberMaster//Event Calendar 2.0//EN
METHOD:PUBLISH
X-PUBLISHED-TTL:P3D
REFRESH-INTERVAL:P3D
CALSCALE:GREGORIAN
BEGIN:VEVENT
DTSTART:20150711T003000Z
DTEND:20150711T040000Z
X-MICROSOFT-CDO-ALLDAYEVENT:FALSE
SUMMARY:Hamel Rodeo & Bull Ridin" Bonanza
DESCRIPTION:6:00 to 6:30 Free pony rides  for the kids - compliments of Polaris.\n\nDance under the Stars at Inn Kahoots after the rodeo
X-ALT-DESC;FMTTYPE=text/html:6:00 to 6:30 Free pony rides&nbsp\; for the kids - compliments of Polaris.<br />\nDance under the Stars at Inn Kahoots after the rodeo
LOCATION:
UID:e.1321.1525
SEQUENCE:3
DTSTAMP:20260422T154300Z
URL:https://business.i94westchamber.org/events/details/hamel-rodeo-bull-ridin-bonanza-07-10-2015-1525
END:VEVENT

END:VCALENDAR
