BEGIN:VCALENDAR
VERSION:2.0
PRODID:-//ChamberMaster//Event Calendar 2.0//EN
METHOD:PUBLISH
X-PUBLISHED-TTL:P3D
REFRESH-INTERVAL:P3D
CALSCALE:GREGORIAN
BEGIN:VEVENT
DTSTART:20150711T163000Z
DTEND:20150712T040000Z
X-MICROSOFT-CDO-ALLDAYEVENT:FALSE
SUMMARY:Hamel Rodeo & Bull Ridin" Bonanza
DESCRIPTION:11:30 to 1:00 - free pony rides compliments of Polaris\n\n1:00 Hamel Rodeo & Bull Ridin Bonanza Family Matinee\, sponsored by Farmers State Bank of Hamel\n\n\n\nStick horse races & calf scramble for all kids 10 & under\n\n\n\n6:00 to 7:30 free pony rides for the kids compliments of Polaris\n\n\n\n7:30pm Hamel Rodeo & Bull Ridin Bonanza\n\n\n\ndance under the stars at Inn Kahoots after the rodeo
X-ALT-DESC;FMTTYPE=text/html:11:30 to 1:00 - free pony rides compliments of Polaris<br />\n1:00 Hamel Rodeo &amp\; Bull Ridin Bonanza Family Matinee\, sponsored by Farmers State Bank of Hamel<br />\n<br />\nStick horse races &amp\; calf scramble for all kids 10 &amp\; under<br />\n<br />\n6:00 to 7:30 free pony rides for the kids compliments of Polaris<br />\n<br />\n7:30pm Hamel Rodeo &amp\; Bull Ridin Bonanza<br />\n<br />\ndance under the stars at Inn Kahoots after the rodeo
LOCATION:
UID:e.1321.1526
SEQUENCE:3
DTSTAMP:20260422T154258Z
URL:https://business.i94westchamber.org/events/details/hamel-rodeo-bull-ridin-bonanza-07-11-2015-1526
END:VEVENT

END:VCALENDAR
