BEGIN:VCALENDAR
VERSION:2.0
PRODID:-//ChamberMaster//Event Calendar 2.0//EN
METHOD:PUBLISH
X-PUBLISHED-TTL:P3D
REFRESH-INTERVAL:P3D
CALSCALE:GREGORIAN
BEGIN:VEVENT
DTSTART;VALUE=DATE:20150712
DTEND;VALUE=DATE:20150713
TRANSP:TRANSPARENT
X-MICROSOFT-CDO-ALLDAYEVENT:TRUE
SUMMARY:Hamel Rodeo & Bull Ridin" Bonanza
DESCRIPTION:Huge Flea market and Rodeo Brunch at Medina Ballroom\n\n2:00 Parade on Main Street\n\n6:00 - 7:30 free pony rides for the kids compliments of Polaris\n\n7:30 Hamel Rodeo and Bull Ridin" Bonanza final show
X-ALT-DESC;FMTTYPE=text/html:Huge Flea market and Rodeo Brunch at Medina Ballroom<br />\n2:00 Parade on Main Street<br />\n6:00 - 7:30 free pony rides for the kids compliments of Polaris<br />\n7:30 Hamel Rodeo and Bull Ridin&quot\; Bonanza final show
LOCATION:
UID:e.1321.1527
SEQUENCE:3
DTSTAMP:20260422T154355Z
URL:https://business.i94westchamber.org/events/details/hamel-rodeo-bull-ridin-bonanza-07-12-2015-1527
END:VEVENT

END:VCALENDAR
