BEGIN:VCALENDAR
VERSION:2.0
PRODID:-//ChamberMaster//Event Calendar 2.0//EN
METHOD:PUBLISH
X-PUBLISHED-TTL:P3D
REFRESH-INTERVAL:P3D
CALSCALE:GREGORIAN
BEGIN:VEVENT
DTSTART:20161030T130000Z
DTEND:20161030T170000Z
X-MICROSOFT-CDO-ALLDAYEVENT:FALSE
SUMMARY:Hanover Lions Pancake Breakfast
DESCRIPTION:Hanover Lions Pancake Breakfast\n			Sunday\, October 30\, 2016 at 8:00 AM\n\n			to Sunday\, October 30\, 2016 at 12:00 PM
X-ALT-DESC;FMTTYPE=text/html:<div class="content">&nbsp\;</div>\n\n<table class="mainTable">\n	<tbody>\n		<tr>\n			<td class="leftColumn column narrow">\n			<nav class="vertical primary block menu">&nbsp\;</nav>\n			</td>\n			<td class="centerColumn column">\n			<article class="fullDisplay B_EV">\n			<header>\n			<h2>Hanover Lions Pancake Breakfast</h2>\n			<time>Sunday\, October 30\, 2016 at 8:00 AM</time><br />\n			<time>to Sunday\, October 30\, 2016 at 12:00 PM</time></header>\n			</article>\n			</td>\n		</tr>\n	</tbody>\n</table>\n
LOCATION:
UID:e.1321.2394
SEQUENCE:3
DTSTAMP:20260421T190046Z
URL:https://business.i94westchamber.org/events/details/hanover-lions-pancake-breakfast-10-30-2016-2394
END:VEVENT

END:VCALENDAR
